BEGIN:VCALENDAR
VERSION:2.0
PRODID:-//Notes - ECPv6.15.20//NONSGML v1.0//EN
CALSCALE:GREGORIAN
METHOD:PUBLISH
X-WR-CALNAME:Notes
X-ORIGINAL-URL:https://notes.gmpu.ac.at
X-WR-CALDESC:Veranstaltungen für Notes
REFRESH-INTERVAL;VALUE=DURATION:PT1H
X-Robots-Tag:noindex
X-PUBLISHED-TTL:PT1H
BEGIN:VTIMEZONE
TZID:Europe/Vienna
BEGIN:DAYLIGHT
TZOFFSETFROM:+0100
TZOFFSETTO:+0200
TZNAME:CEST
DTSTART:20250330T010000
END:DAYLIGHT
BEGIN:STANDARD
TZOFFSETFROM:+0200
TZOFFSETTO:+0100
TZNAME:CET
DTSTART:20251026T010000
END:STANDARD
BEGIN:DAYLIGHT
TZOFFSETFROM:+0100
TZOFFSETTO:+0200
TZNAME:CEST
DTSTART:20260329T010000
END:DAYLIGHT
BEGIN:STANDARD
TZOFFSETFROM:+0200
TZOFFSETTO:+0100
TZNAME:CET
DTSTART:20261025T010000
END:STANDARD
BEGIN:DAYLIGHT
TZOFFSETFROM:+0100
TZOFFSETTO:+0200
TZNAME:CEST
DTSTART:20270328T010000
END:DAYLIGHT
BEGIN:STANDARD
TZOFFSETFROM:+0200
TZOFFSETTO:+0100
TZNAME:CET
DTSTART:20271031T010000
END:STANDARD
END:VTIMEZONE
BEGIN:VEVENT
DTSTART;TZID=Europe/Vienna:20260426T180000
DTEND;TZID=Europe/Vienna:20260426T190000
DTSTAMP:20260426T022822
CREATED:20260324T072737Z
LAST-MODIFIED:20260324T072936Z
UID:11420-1777226400-1777230000@notes.gmpu.ac.at
SUMMARY:John Cage - Europera 5 - Konzert
DESCRIPTION:Studierende der GMPU performen für ein neugieriges und phantasievolles Publikum. \n  \nSonntag\, 26. April 2026\, 18:00 Uhr\, Kultur.Gut.Portendorf\, Portendorf 1\, 9020 Magdalensberg
URL:https://notes.gmpu.ac.at/event/john-cage-europera-5-konzert-3/
LOCATION:Kultur.Gut.Portendorf\, Portendorf 1\, Magdalensberg\, Kärnten\, 9020\, Austria
CATEGORIES:Konzert
ATTACH;FMTTYPE=image/png:https://notes.gmpu.ac.at/wp-content/uploads/2026/03/John-Cage-1.png
ORGANIZER;CN="Gustav Mahler Privatuniversit%C3%A4t f%C3%BCr Musik":MAILTO:info@gmpu.ac.at
END:VEVENT
END:VCALENDAR