BEGIN:VCALENDAR
VERSION:2.0
PRODID:-//Notes - ECPv6.15.20//NONSGML v1.0//EN
CALSCALE:GREGORIAN
METHOD:PUBLISH
X-WR-CALNAME:Notes
X-ORIGINAL-URL:https://notes.gmpu.ac.at
X-WR-CALDESC:Veranstaltungen für Notes
REFRESH-INTERVAL;VALUE=DURATION:PT1H
X-Robots-Tag:noindex
X-PUBLISHED-TTL:PT1H
BEGIN:VTIMEZONE
TZID:Europe/Vienna
BEGIN:DAYLIGHT
TZOFFSETFROM:+0100
TZOFFSETTO:+0200
TZNAME:CEST
DTSTART:20250330T010000
END:DAYLIGHT
BEGIN:STANDARD
TZOFFSETFROM:+0200
TZOFFSETTO:+0100
TZNAME:CET
DTSTART:20251026T010000
END:STANDARD
BEGIN:DAYLIGHT
TZOFFSETFROM:+0100
TZOFFSETTO:+0200
TZNAME:CEST
DTSTART:20260329T010000
END:DAYLIGHT
BEGIN:STANDARD
TZOFFSETFROM:+0200
TZOFFSETTO:+0100
TZNAME:CET
DTSTART:20261025T010000
END:STANDARD
BEGIN:DAYLIGHT
TZOFFSETFROM:+0100
TZOFFSETTO:+0200
TZNAME:CEST
DTSTART:20270328T010000
END:DAYLIGHT
BEGIN:STANDARD
TZOFFSETFROM:+0200
TZOFFSETTO:+0100
TZNAME:CET
DTSTART:20271031T010000
END:STANDARD
END:VTIMEZONE
BEGIN:VEVENT
DTSTART;TZID=Europe/Vienna:20260425T110000
DTEND;TZID=Europe/Vienna:20260425T130000
DTSTAMP:20260425T142502
CREATED:20260202T140034Z
LAST-MODIFIED:20260202T140034Z
UID:10907-1777114800-1777122000@notes.gmpu.ac.at
SUMMARY:Klavier - Matinee
DESCRIPTION:Koordinator RUMYANTSEVA Ekaterina \, Prof.
URL:https://notes.gmpu.ac.at/event/klavier-matinee/
LOCATION:GMPU Neuer Saal
CATEGORIES:Matinée
ORGANIZER;CN="Gustav Mahler Privatuniversit%C3%A4t f%C3%BCr Musik":MAILTO:info@gmpu.ac.at
END:VEVENT
BEGIN:VEVENT
DTSTART;TZID=Europe/Vienna:20260425T110000
DTEND;TZID=Europe/Vienna:20260425T130000
DTSTAMP:20260425T142502
CREATED:20260415T072842Z
LAST-MODIFIED:20260415T072842Z
UID:11517-1777114800-1777122000@notes.gmpu.ac.at
SUMMARY:Samstags Matinée der GMPU Klavierklassen
DESCRIPTION:Koordinator RUMYANTSEVA Ekaterina \, Prof.
URL:https://notes.gmpu.ac.at/event/samstags-matinee-der-gmpu-klavierklassen-3/
LOCATION:GMPU Neuer Saal
CATEGORIES:Matinée
ATTACH;FMTTYPE=image/png:https://notes.gmpu.ac.at/wp-content/uploads/2026/04/Samstagsmatinee-Klavier-25.4.2026.png
ORGANIZER;CN="Gustav Mahler Privatuniversit%C3%A4t f%C3%BCr Musik":MAILTO:info@gmpu.ac.at
END:VEVENT
BEGIN:VEVENT
DTSTART;TZID=Europe/Vienna:20260425T180000
DTEND;TZID=Europe/Vienna:20260425T190000
DTSTAMP:20260425T142502
CREATED:20260324T072317Z
LAST-MODIFIED:20260324T073032Z
UID:11417-1777140000-1777143600@notes.gmpu.ac.at
SUMMARY:John Cage - Europera 5 - Konzert
DESCRIPTION:Studierende der GMPU performen für ein neugieriges und phantasievolles Publikum. \n  \nSamstag\, 25. April 2026\, 18:00 Uhr\, Schloss Saager\,  Saager 1\, 9131 Grafenstein \n 
URL:https://notes.gmpu.ac.at/event/john-cage-europera-5-konzert-2/
LOCATION:Schloss\, Saager 1\, Grafenstein\, Kärnten\, 9131\, Austria
CATEGORIES:Konzert
ATTACH;FMTTYPE=image/png:https://notes.gmpu.ac.at/wp-content/uploads/2026/03/John-Cage.png
ORGANIZER;CN="Gustav Mahler Privatuniversit%C3%A4t f%C3%BCr Musik":MAILTO:info@gmpu.ac.at
END:VEVENT
END:VCALENDAR