BEGIN:VCALENDAR
VERSION:2.0
PRODID:-//Notes - ECPv6.15.20//NONSGML v1.0//EN
CALSCALE:GREGORIAN
METHOD:PUBLISH
X-WR-CALNAME:Notes
X-ORIGINAL-URL:https://notes.gmpu.ac.at
X-WR-CALDESC:Veranstaltungen für Notes
REFRESH-INTERVAL;VALUE=DURATION:PT1H
X-Robots-Tag:noindex
X-PUBLISHED-TTL:PT1H
BEGIN:VTIMEZONE
TZID:Europe/Vienna
BEGIN:DAYLIGHT
TZOFFSETFROM:+0100
TZOFFSETTO:+0200
TZNAME:CEST
DTSTART:20250330T010000
END:DAYLIGHT
BEGIN:STANDARD
TZOFFSETFROM:+0200
TZOFFSETTO:+0100
TZNAME:CET
DTSTART:20251026T010000
END:STANDARD
BEGIN:DAYLIGHT
TZOFFSETFROM:+0100
TZOFFSETTO:+0200
TZNAME:CEST
DTSTART:20260329T010000
END:DAYLIGHT
BEGIN:STANDARD
TZOFFSETFROM:+0200
TZOFFSETTO:+0100
TZNAME:CET
DTSTART:20261025T010000
END:STANDARD
BEGIN:DAYLIGHT
TZOFFSETFROM:+0100
TZOFFSETTO:+0200
TZNAME:CEST
DTSTART:20270328T010000
END:DAYLIGHT
BEGIN:STANDARD
TZOFFSETFROM:+0200
TZOFFSETTO:+0100
TZNAME:CET
DTSTART:20271031T010000
END:STANDARD
END:VTIMEZONE
BEGIN:VEVENT
DTSTART;TZID=Europe/Vienna:20260424T170000
DTEND;TZID=Europe/Vienna:20260424T230000
DTSTAMP:20260424T030901
CREATED:20260421T142543Z
LAST-MODIFIED:20260423T070446Z
UID:11617-1777050000-1777071600@notes.gmpu.ac.at
SUMMARY:Hearing Video Games - Videospiele HÖREN
DESCRIPTION:Hearing Video Games – Videospiele HÖREN – Ein Workshop im Rahmen der „Lange Nacht der Forschung 2026“ \nUniv.-Ass. Dr. phil. Alexander Lederer\, BA (Workshopleitung) und Studierende der Gustav Mahler Privatuniversität für Musik gestalten in Kooperation mit dem Master-Studiengang „Game Studies und Engineering“ der Universität Klagenfurt einen Workshop im Rahmen der „Langen Nacht der Forschung“. \nWann:      24.4.2026\, 17.00 bis 23.00 Uhr\nOrt:           Universität Klagenfurt\, Nordtrakt (Station Ü35) \nEintritt frei ! \n 
URL:https://notes.gmpu.ac.at/event/hearing-video-games-videospiele-hoeren/
LOCATION:Alpen-Adria-Universität Klagenfurt\, Österreich
CATEGORIES:Universitätsveranstaltung
ATTACH;FMTTYPE=image/png:https://notes.gmpu.ac.at/wp-content/uploads/2026/04/Lange-Nacht-der-Forschung.png
ORGANIZER;CN="Gustav Mahler Privatuniversit%C3%A4t f%C3%BCr Musik":MAILTO:info@gmpu.ac.at
END:VEVENT
BEGIN:VEVENT
DTSTART;TZID=Europe/Vienna:20260424T190000
DTEND;TZID=Europe/Vienna:20260424T213000
DTSTAMP:20260424T030901
CREATED:20260407T103536Z
LAST-MODIFIED:20260407T103536Z
UID:11469-1777057200-1777066200@notes.gmpu.ac.at
SUMMARY:Podium Violoncello
DESCRIPTION:Klasse MITROVIC Igor \, Prof.
URL:https://notes.gmpu.ac.at/event/podium-violoncello-24/
LOCATION:GMPU Neuer Saal
CATEGORIES:Podium
ORGANIZER;CN="Gustav Mahler Privatuniversit%C3%A4t f%C3%BCr Musik":MAILTO:info@gmpu.ac.at
END:VEVENT
BEGIN:VEVENT
DTSTART;TZID=Europe/Vienna:20260424T203000
DTEND;TZID=Europe/Vienna:20260424T213000
DTSTAMP:20260424T030901
CREATED:20260324T071912Z
LAST-MODIFIED:20260324T073110Z
UID:11414-1777062600-1777066200@notes.gmpu.ac.at
SUMMARY:John Cage - Europera 5 - Konzert
DESCRIPTION:Studierende der GMPU performen für ein neugieriges und phantasievolles Publikum. \n  \nFreitag\, 24. April 2026\, 20:30 Uhr: AAU Klagenfurt\, Hörsaal 1 – Performance im Rahmen der Langen Nacht der Forschung \n 
URL:https://notes.gmpu.ac.at/event/john-cage-europera-5-konzert/
LOCATION:Alpen-Adria-Universität Klagenfurt\, Österreich
CATEGORIES:Konzert
ATTACH;FMTTYPE=image/png:https://notes.gmpu.ac.at/wp-content/uploads/2026/03/John-Cage.png
ORGANIZER;CN="Gustav Mahler Privatuniversit%C3%A4t f%C3%BCr Musik":MAILTO:info@gmpu.ac.at
END:VEVENT
END:VCALENDAR