BEGIN:VCALENDAR
VERSION:2.0
PRODID:-//Notes - ECPv6.15.20//NONSGML v1.0//EN
CALSCALE:GREGORIAN
METHOD:PUBLISH
X-WR-CALNAME:Notes
X-ORIGINAL-URL:https://notes.gmpu.ac.at
X-WR-CALDESC:Veranstaltungen für Notes
REFRESH-INTERVAL;VALUE=DURATION:PT1H
X-Robots-Tag:noindex
X-PUBLISHED-TTL:PT1H
BEGIN:VTIMEZONE
TZID:Europe/Vienna
BEGIN:DAYLIGHT
TZOFFSETFROM:+0100
TZOFFSETTO:+0200
TZNAME:CEST
DTSTART:20250330T010000
END:DAYLIGHT
BEGIN:STANDARD
TZOFFSETFROM:+0200
TZOFFSETTO:+0100
TZNAME:CET
DTSTART:20251026T010000
END:STANDARD
BEGIN:DAYLIGHT
TZOFFSETFROM:+0100
TZOFFSETTO:+0200
TZNAME:CEST
DTSTART:20260329T010000
END:DAYLIGHT
BEGIN:STANDARD
TZOFFSETFROM:+0200
TZOFFSETTO:+0100
TZNAME:CET
DTSTART:20261025T010000
END:STANDARD
BEGIN:DAYLIGHT
TZOFFSETFROM:+0100
TZOFFSETTO:+0200
TZNAME:CEST
DTSTART:20270328T010000
END:DAYLIGHT
BEGIN:STANDARD
TZOFFSETFROM:+0200
TZOFFSETTO:+0100
TZNAME:CET
DTSTART:20271031T010000
END:STANDARD
END:VTIMEZONE
BEGIN:VEVENT
DTSTART;TZID=Europe/Vienna:20260423T090000
DTEND;TZID=Europe/Vienna:20260423T130000
DTSTAMP:20260423T175815
CREATED:20260302T102035Z
LAST-MODIFIED:20260324T072002Z
UID:11154-1776934800-1776949200@notes.gmpu.ac.at
SUMMARY:Performed by chance. John Cage - Europera 5
DESCRIPTION:Performed by chance. John Cage\, Europera 5  \nEine zufallsgesteuerte Operncollage mit anarchistischem Potential und musik- wie medienhistorischem Tiefgang\, die mit außergewöhnlichen Wahrnehmungserlebnissen zu kreativen wie kritischen Fragen anregt. \nStudierende der GMPU performen für ein neugieriges und phantasievolles Publikum. \nKatharina Kubatta\, Musikvermittlung \nWissenschaftlich-künstlerisch-kreativ-kritische Instanzen: Klaus Kuchling und Ramona Hocker \nDauer: 1 Stunde mit kurzer Einführung \nEintritt frei \n  \nDonnerstag\, 23. April 2026\, 9:00 Uhr\, GMPU Neuer Saal \nAufführung für Schulklassen \nKontakt und Anmeldung bis 15.3.26: Ramona Hocker (ramona.hocker@gmpu.ac.at | 0664 80536 16565) \n  \nDonnerstag\, 23. April 2026\, 11:00 Uhr\, GMPU Neuer Saal \nAufführung für Schulklassen \nKontakt und Anmeldung bis 15.3.26: Ramona Hocker (ramona.hocker@gmpu.ac.at | 0664 80536 16565) \n  \nWeitere Veranstaltungen: \nFreitag\, 24. April 2026\, 20:30 Uhr\, AAU Klagenfurt\, Hörsaal 1 – Performance im Rahmen der Langen Nacht der Forschung \nSamstag\, 25. April 2026\, 18:00 Uhr\, Schloss Saager\,  Saager 1\, 9131 Grafenstein \nSonntag\, 26. April 2026\, 18:00 Uhr\, Kultur.Gut.Portendorf\, Portendorf 1\, 9020 Magdalensberg \n 
URL:https://notes.gmpu.ac.at/event/performed-by-chance-john-cage-europera-5/
LOCATION:GMPU Neuer Saal
CATEGORIES:Performance
ATTACH;FMTTYPE=image/png:https://notes.gmpu.ac.at/wp-content/uploads/2026/03/John-Cage.png
ORGANIZER;CN="Gustav Mahler Privatuniversit%C3%A4t f%C3%BCr Musik":MAILTO:info@gmpu.ac.at
END:VEVENT
END:VCALENDAR