BEGIN:VCALENDAR
VERSION:2.0
PRODID:-//Notes - ECPv6.15.20//NONSGML v1.0//EN
CALSCALE:GREGORIAN
METHOD:PUBLISH
X-WR-CALNAME:Notes
X-ORIGINAL-URL:https://notes.gmpu.ac.at
X-WR-CALDESC:Veranstaltungen für Notes
REFRESH-INTERVAL;VALUE=DURATION:PT1H
X-Robots-Tag:noindex
X-PUBLISHED-TTL:PT1H
BEGIN:VTIMEZONE
TZID:Europe/Vienna
BEGIN:DAYLIGHT
TZOFFSETFROM:+0100
TZOFFSETTO:+0200
TZNAME:CEST
DTSTART:20250330T010000
END:DAYLIGHT
BEGIN:STANDARD
TZOFFSETFROM:+0200
TZOFFSETTO:+0100
TZNAME:CET
DTSTART:20251026T010000
END:STANDARD
BEGIN:DAYLIGHT
TZOFFSETFROM:+0100
TZOFFSETTO:+0200
TZNAME:CEST
DTSTART:20260329T010000
END:DAYLIGHT
BEGIN:STANDARD
TZOFFSETFROM:+0200
TZOFFSETTO:+0100
TZNAME:CET
DTSTART:20261025T010000
END:STANDARD
BEGIN:DAYLIGHT
TZOFFSETFROM:+0100
TZOFFSETTO:+0200
TZNAME:CEST
DTSTART:20270328T010000
END:DAYLIGHT
BEGIN:STANDARD
TZOFFSETFROM:+0200
TZOFFSETTO:+0100
TZNAME:CET
DTSTART:20271031T010000
END:STANDARD
END:VTIMEZONE
BEGIN:VEVENT
DTSTART;TZID=Europe/Vienna:20260420T160000
DTEND;TZID=Europe/Vienna:20260420T180000
DTSTAMP:20260420T133441
CREATED:20260226T085032Z
LAST-MODIFIED:20260226T085032Z
UID:11080-1776700800-1776708000@notes.gmpu.ac.at
SUMMARY:Podium Trompete
DESCRIPTION:Klasse  HOFER Robert \, Prof.
URL:https://notes.gmpu.ac.at/event/podium-trompete-26/
LOCATION:GMPU Neuer Saal
CATEGORIES:Podium
ORGANIZER;CN="Gustav Mahler Privatuniversit%C3%A4t f%C3%BCr Musik":MAILTO:info@gmpu.ac.at
END:VEVENT
BEGIN:VEVENT
DTSTART;TZID=Europe/Vienna:20260420T190000
DTEND;TZID=Europe/Vienna:20260420T203000
DTSTAMP:20260420T133441
CREATED:20260310T100308Z
LAST-MODIFIED:20260310T100308Z
UID:11247-1776711600-1776717000@notes.gmpu.ac.at
SUMMARY:Podium Euphonium/Tuba/Fagott/Oboe
DESCRIPTION:Koordination HOFFMANN Christian \, Prof.
URL:https://notes.gmpu.ac.at/event/podium-euphonium-tuba-fagott-oboe/
LOCATION:GMPU Neuer Saal
CATEGORIES:Podium
ORGANIZER;CN="Gustav Mahler Privatuniversit%C3%A4t f%C3%BCr Musik":MAILTO:info@gmpu.ac.at
END:VEVENT
END:VCALENDAR