BEGIN:VCALENDAR
VERSION:2.0
PRODID:-//Notes - ECPv6.15.20//NONSGML v1.0//EN
CALSCALE:GREGORIAN
METHOD:PUBLISH
X-WR-CALNAME:Notes
X-ORIGINAL-URL:https://notes.gmpu.ac.at
X-WR-CALDESC:Veranstaltungen für Notes
REFRESH-INTERVAL;VALUE=DURATION:PT1H
X-Robots-Tag:noindex
X-PUBLISHED-TTL:PT1H
BEGIN:VTIMEZONE
TZID:Europe/Vienna
BEGIN:DAYLIGHT
TZOFFSETFROM:+0100
TZOFFSETTO:+0200
TZNAME:CEST
DTSTART:20240331T010000
END:DAYLIGHT
BEGIN:STANDARD
TZOFFSETFROM:+0200
TZOFFSETTO:+0100
TZNAME:CET
DTSTART:20241027T010000
END:STANDARD
BEGIN:DAYLIGHT
TZOFFSETFROM:+0100
TZOFFSETTO:+0200
TZNAME:CEST
DTSTART:20250330T010000
END:DAYLIGHT
BEGIN:STANDARD
TZOFFSETFROM:+0200
TZOFFSETTO:+0100
TZNAME:CET
DTSTART:20251026T010000
END:STANDARD
BEGIN:DAYLIGHT
TZOFFSETFROM:+0100
TZOFFSETTO:+0200
TZNAME:CEST
DTSTART:20260329T010000
END:DAYLIGHT
BEGIN:STANDARD
TZOFFSETFROM:+0200
TZOFFSETTO:+0100
TZNAME:CET
DTSTART:20261025T010000
END:STANDARD
END:VTIMEZONE
BEGIN:VEVENT
DTSTART;VALUE=DATE:20250524
DTEND;VALUE=DATE:20250922
DTSTAMP:20260422T121843
CREATED:20250526T092350Z
LAST-MODIFIED:20250526T092350Z
UID:9836-1748044800-1758499199@notes.gmpu.ac.at
SUMMARY:Rotationskörper - Ausstellung in der "Neuen Galerie Graz"
DESCRIPTION:Künstlerische Forschung zum Anfassen! – Die Laufzeit der Ausstellung ist von 24.05 – 21.09.2025 \nDie GMPU zeigt in der Neuen Galerie Graz Ergebnisse des FWF-Forschungsprojektes „Simultane Ankünfte! – noch bis 21.09.2025 zu sehen! \nBeschreibung: \nRotationskörper ist die erste von zwei Ausstellungen im Rahmen der Simultanen Ankünfte (simularr) – einem künstlerischen Forschungsprojekt zu neuen oder andersartigen \nFormen der Kollaboration. Dabei geht es um Praktiken\, die aus dem Kreis mehrerer\, Seite an Seite arbeitender Künstler*innen-Forscher*innen mit verschiedenartigen Sprachen und Medien entstehen. Was passiert\, wenn Schaffensräume und Denkräume geteilt werden? Welche neuen Raumtypen entspringen der Zusammenkunft und der Bewegung der Teilnehmenden und wie verhalten sie sich zu den Arbeitsumgebungen der Gruppe? Im Zusammentragen der materiellen Formen und Notationengemeinsamer Prozesse wird es möglich\, dem Spiel von Nähe und Ferne zwischen den Individuen und dem Wiedererscheinen von Formen und Ideen an unerwarteten Orten beizuwohnen. \nDie Drehbewegung von Körpern lässt Kurven zu Volumen werden\, überführt Konturen in räumliche Gebilde. Wird die geometrische Abstraktion der Rotationskörper weiter gedacht\, könnten solche Bewegungen metaphorisch die Art von Unternehmung kennzeichnen\, die die Gestaltung einer Ausstellung auf Basis künstlerischer Forschung erfordert – ein Zwischenreich aus künstlerischer Praxis und systematischer Untersuchung\, worin Fragen von Ästhetik\, Wissen und Ethik nicht nur voneinander abhängen\, sondern ein rhizomatisches Geflecht bilden. Die reichhaltigen Materialien\, die während der dreijährigen Durchführung von simularr entstanden sind\, fordern eine bestimmte Emanzipation vom Projekt ein: Die Ausstellung „repräsentiert“ das Projekt nicht zur Gänze\, sondern macht eine bestimmte Drehung um dieses herum und dabei ausgewählte künstlerische Kristallisationen sichtbar\, die während der Forschungsintervalle gewonnen wurden. \nDie Schau versammelt Objekte und Vorhaben der dreizehn Künstler*innen-Forscher*innen\, die sich während der Laufzeit des Projektes begegnet sind:\nAndrea Bakketun\, Susanne Bosch\, Nayarí Castillo\, Miguel Alejandro Castillo Le Maitre\, Emma Cocker\, Ludvig Elblaus\, Caroline Gatt\, Franziska Hederer\, Daniele Pozzi\, Elena Redaelli\,\nCharlotta Ruth\, Hanns Holger Rutz\, Fulya Uçanok. \nKuratiert von: Günther Holler-Schuster
URL:https://notes.gmpu.ac.at/event/rotationskoerper-ausstellung-in-der-neuen-galerie-graz/
LOCATION:Neue Galerie Graz\, Joanneumsviertel\, Graz\, Steiermark\, 8010\, Österreich
CATEGORIES:Ausstellung
ATTACH;FMTTYPE=image/png:https://notes.gmpu.ac.at/wp-content/uploads/2025/05/Rotationskoerper.png
ORGANIZER;CN="Gustav Mahler Privatuniversit%C3%A4t f%C3%BCr Musik":MAILTO:info@gmpu.ac.at
END:VEVENT
BEGIN:VEVENT
DTSTART;TZID=Europe/Vienna:20250527T090000
DTEND;TZID=Europe/Vienna:20250527T103000
DTSTAMP:20260422T121843
CREATED:20250402T093934Z
LAST-MODIFIED:20250429T161732Z
UID:9424-1748336400-1748341800@notes.gmpu.ac.at
SUMMARY:Podium Euphonium\, Tuba - internes Podium
DESCRIPTION:Klasse HOFFMANN Christian \, Prof. \n 
URL:https://notes.gmpu.ac.at/event/podium-euphonium-tuba-8/
LOCATION:GMPU Neuer Saal
CATEGORIES:Podium
ORGANIZER;CN="Gustav Mahler Privatuniversit%C3%A4t f%C3%BCr Musik":MAILTO:info@gmpu.ac.at
END:VEVENT
BEGIN:VEVENT
DTSTART;TZID=Europe/Vienna:20250527T120000
DTEND;TZID=Europe/Vienna:20250527T140000
DTSTAMP:20260422T121843
CREATED:20250122T101544Z
LAST-MODIFIED:20250122T101650Z
UID:8898-1748347200-1748354400@notes.gmpu.ac.at
SUMMARY:Podium Kontrabass
DESCRIPTION:Klasse GEHRING Andrea \, Prof.
URL:https://notes.gmpu.ac.at/event/podium-kontrabass-12/
LOCATION:GMPU Neuer Saal
CATEGORIES:Podium
ORGANIZER;CN="Gustav Mahler Privatuniversit%C3%A4t f%C3%BCr Musik":MAILTO:info@gmpu.ac.at
END:VEVENT
BEGIN:VEVENT
DTSTART;TZID=Europe/Vienna:20250527T140000
DTEND;TZID=Europe/Vienna:20250527T170000
DTSTAMP:20260422T121843
CREATED:20250522T114556Z
LAST-MODIFIED:20250522T114556Z
UID:9819-1748354400-1748365200@notes.gmpu.ac.at
SUMMARY:Workshop Zeitgenössische Klaviermusik
DESCRIPTION:mit Univ.-Ass. Ana Velinovska
URL:https://notes.gmpu.ac.at/event/workshop-zeitgenoessische-klaviermusik/
LOCATION:Konzerthaus Klagenfurt\, Kleiner Saal
CATEGORIES:Workshop
ATTACH;FMTTYPE=image/png:https://notes.gmpu.ac.at/wp-content/uploads/2025/05/Ana-Velinovska.png
ORGANIZER;CN="Gustav Mahler Privatuniversit%C3%A4t f%C3%BCr Musik":MAILTO:info@gmpu.ac.at
END:VEVENT
BEGIN:VEVENT
DTSTART;TZID=Europe/Vienna:20250527T143000
DTEND;TZID=Europe/Vienna:20250527T160000
DTSTAMP:20260422T121843
CREATED:20250514T125328Z
LAST-MODIFIED:20250514T125328Z
UID:9680-1748356200-1748361600@notes.gmpu.ac.at
SUMMARY:Podium Posaune
DESCRIPTION:Klasse PÖTTINGER Gerald \, MA\, Prof.
URL:https://notes.gmpu.ac.at/event/podium-posaune-8/
LOCATION:GMPU Blauer Saal
CATEGORIES:Podium
ORGANIZER;CN="Gustav Mahler Privatuniversit%C3%A4t f%C3%BCr Musik":MAILTO:info@gmpu.ac.at
END:VEVENT
BEGIN:VEVENT
DTSTART;TZID=Europe/Vienna:20250527T163000
DTEND;TZID=Europe/Vienna:20250527T180000
DTSTAMP:20260422T121843
CREATED:20250224T150010Z
LAST-MODIFIED:20250224T150521Z
UID:9100-1748363400-1748368800@notes.gmpu.ac.at
SUMMARY:Forschungsforum Sommersemester 2025
DESCRIPTION:Antrittsvorlesung: Le berceau de la musique: the Perception of the Italian Style in 18th  Century Europe\nGiulia Nuti – Univ.-Prof. für Cembalo und Historische Aufführungspraxis\, GMPU\nImprovisation was at the heart of 18th century debates on national musical styles and expression. In the Italian tradition\, ornamentation of written parts was expected and encouraged\, while the realization of basso continuo accompaniment was both essential to the composition and beyond the composer’s control. Italian music was celebrated for this expressive freedom\, yet many critics saw its dependence on basso continuo and ornamentation as excessive\, allowing performers too much interpretative license. \nThis presentation examines contemporary descriptions from non-Italian sources to identify the improvisatory techniques most admired and those that drew the sharpest criticism\, with particular reference to the realization of the accompaniment. Through this analysis\, we gain insight into the improvisational techniques employed by performers and their impact on performance practices\, helping us reconstruct — or at least imagine — how the musicians of the time shaped and defined the Italian style.
URL:https://notes.gmpu.ac.at/event/forschungsforum-sommersemester-2025-4/
LOCATION:GMPU Blauer Saal
CATEGORIES:Forschung,Forschungsforum,Universitätsveranstaltung
ATTACH;FMTTYPE=image/png:https://notes.gmpu.ac.at/wp-content/uploads/2025/02/Termine-Forschungsforum.png
ORGANIZER;CN="Gustav Mahler Privatuniversit%C3%A4t f%C3%BCr Musik":MAILTO:info@gmpu.ac.at
END:VEVENT
BEGIN:VEVENT
DTSTART;TZID=Europe/Vienna:20250527T163000
DTEND;TZID=Europe/Vienna:20250527T181500
DTSTAMP:20260422T121843
CREATED:20250402T104803Z
LAST-MODIFIED:20250402T104803Z
UID:9426-1748363400-1748369700@notes.gmpu.ac.at
SUMMARY:Podium Violine
DESCRIPTION:Klasse Univ.-Prof. MORGOULETS Anna \, MA
URL:https://notes.gmpu.ac.at/event/podium-violine-37/
LOCATION:Raum 209\, Mießtaler Straße 8\, Klagenfurt am Wörthersee\, Österreich
CATEGORIES:Podium
ORGANIZER;CN="Gustav Mahler Privatuniversit%C3%A4t f%C3%BCr Musik":MAILTO:info@gmpu.ac.at
END:VEVENT
BEGIN:VEVENT
DTSTART;TZID=Europe/Vienna:20250527T183000
DTEND;TZID=Europe/Vienna:20250527T200000
DTSTAMP:20260422T121843
CREATED:20250520T070450Z
LAST-MODIFIED:20250520T070450Z
UID:9774-1748370600-1748376000@notes.gmpu.ac.at
SUMMARY:Festmusik - Ensemble Abschlusskonzert
DESCRIPTION:mit Mira Janesch und Primož Gnidovec \nModeration: Magdalena Pedarnig \nGast: Deklata Smrtnik \nFreiwillige Spenden
URL:https://notes.gmpu.ac.at/event/festmusik-ensemble-abschlusskonzert/
LOCATION:Konzerthaus Klagenfurt\, Mittlerer Saal\, Mießtaler Str. 8\, Klagenfurt am Wörthersee\, Kärnten\, 9020\, Österreich
CATEGORIES:Konzert
ATTACH;FMTTYPE=image/jpeg:https://notes.gmpu.ac.at/wp-content/uploads/2025/05/MiroPrimoz.jpg
ORGANIZER;CN="Gustav Mahler Privatuniversit%C3%A4t f%C3%BCr Musik":MAILTO:info@gmpu.ac.at
END:VEVENT
BEGIN:VEVENT
DTSTART;TZID=Europe/Vienna:20250527T200000
DTEND;TZID=Europe/Vienna:20250527T220000
DTSTAMP:20260422T121843
CREATED:20250414T132508Z
LAST-MODIFIED:20250414T132508Z
UID:9500-1748376000-1748383200@notes.gmpu.ac.at
SUMMARY:Lecture Recital mit Konrad A. Cygal (Tenor) und Stefano Chiurchiu
DESCRIPTION:Heinrich von Herzogenberg – Leben und Werk im Kontext der romantischen Vokalmusik
URL:https://notes.gmpu.ac.at/event/lecture-recital-mit-konrad-a-cygal-tenor-und-stefano-chiurchiu/
LOCATION:GMPU Blauer Saal
CATEGORIES:Konzert,Recital
ATTACH;FMTTYPE=image/png:https://notes.gmpu.ac.at/wp-content/uploads/2025/04/Lecture-Recital.png
ORGANIZER;CN="Gustav Mahler Privatuniversit%C3%A4t f%C3%BCr Musik":MAILTO:info@gmpu.ac.at
END:VEVENT
BEGIN:VEVENT
DTSTART;TZID=Europe/Vienna:20250527T200000
DTEND;TZID=Europe/Vienna:20250527T220000
DTSTAMP:20260422T121843
CREATED:20250520T070016Z
LAST-MODIFIED:20250520T070016Z
UID:9771-1748376000-1748383200@notes.gmpu.ac.at
SUMMARY:Musikanten-Stammtisch der GMPU
DESCRIPTION:Fachbereich Volksmusik
URL:https://notes.gmpu.ac.at/event/musikanten-stammtisch-der-gmpu/
LOCATION:Café Bistro Intermezzo im Konzerthaus Klagenfurt
CATEGORIES:Stammtisch
ATTACH;FMTTYPE=image/jpeg:https://notes.gmpu.ac.at/wp-content/uploads/2025/05/Musikanten-Stammtisch-27.-Mai-25.jpg
ORGANIZER;CN="Gustav Mahler Privatuniversit%C3%A4t f%C3%BCr Musik":MAILTO:info@gmpu.ac.at
END:VEVENT
END:VCALENDAR