BEGIN:VCALENDAR
VERSION:2.0
PRODID:-//Notes - ECPv6.15.20//NONSGML v1.0//EN
CALSCALE:GREGORIAN
METHOD:PUBLISH
X-ORIGINAL-URL:https://notes.gmpu.ac.at
X-WR-CALDESC:Veranstaltungen für Notes
REFRESH-INTERVAL;VALUE=DURATION:PT1H
X-Robots-Tag:noindex
X-PUBLISHED-TTL:PT1H
BEGIN:VTIMEZONE
TZID:Europe/Vienna
BEGIN:DAYLIGHT
TZOFFSETFROM:+0100
TZOFFSETTO:+0200
TZNAME:CEST
DTSTART:20240331T010000
END:DAYLIGHT
BEGIN:STANDARD
TZOFFSETFROM:+0200
TZOFFSETTO:+0100
TZNAME:CET
DTSTART:20241027T010000
END:STANDARD
BEGIN:DAYLIGHT
TZOFFSETFROM:+0100
TZOFFSETTO:+0200
TZNAME:CEST
DTSTART:20250330T010000
END:DAYLIGHT
BEGIN:STANDARD
TZOFFSETFROM:+0200
TZOFFSETTO:+0100
TZNAME:CET
DTSTART:20251026T010000
END:STANDARD
BEGIN:DAYLIGHT
TZOFFSETFROM:+0100
TZOFFSETTO:+0200
TZNAME:CEST
DTSTART:20260329T010000
END:DAYLIGHT
BEGIN:STANDARD
TZOFFSETFROM:+0200
TZOFFSETTO:+0100
TZNAME:CET
DTSTART:20261025T010000
END:STANDARD
END:VTIMEZONE
BEGIN:VEVENT
DTSTART;TZID=Europe/Vienna:20250520T080000
DTEND;TZID=Europe/Vienna:20250520T170000
DTSTAMP:20260422T160458
CREATED:20250402T073321Z
LAST-MODIFIED:20250402T073730Z
UID:9383-1747728000-1747760400@notes.gmpu.ac.at
SUMMARY:Klemens Marktl Xperience @ Villa for Forest
DESCRIPTION:
URL:https://notes.gmpu.ac.at/event/klemens-marktl-xperience-villa-for-forest/
LOCATION:Villa for Forest\, Viktringer Ring 21\, 9020 Klagenfurt\, Österreich
CATEGORIES:Session
ORGANIZER;CN="Gustav Mahler Privatuniversit%C3%A4t f%C3%BCr Musik":MAILTO:info@gmpu.ac.at
END:VEVENT
BEGIN:VEVENT
DTSTART;TZID=Europe/Vienna:20250520T120000
DTEND;TZID=Europe/Vienna:20250520T140000
DTSTAMP:20260422T160458
CREATED:20250402T090708Z
LAST-MODIFIED:20250402T090708Z
UID:9412-1747742400-1747749600@notes.gmpu.ac.at
SUMMARY:Podium Klarinette
DESCRIPTION:Klasse SALMHOFER Hubert \, Prof. \n 
URL:https://notes.gmpu.ac.at/event/podium-klarinette-19/
LOCATION:GMPU Neuer Saal
CATEGORIES:Podium
ORGANIZER;CN="Gustav Mahler Privatuniversit%C3%A4t f%C3%BCr Musik":MAILTO:info@gmpu.ac.at
END:VEVENT
BEGIN:VEVENT
DTSTART;TZID=Europe/Vienna:20250520T144500
DTEND;TZID=Europe/Vienna:20250520T161500
DTSTAMP:20260422T160458
CREATED:20250306T094632Z
LAST-MODIFIED:20250306T094632Z
UID:9204-1747752300-1747757700@notes.gmpu.ac.at
SUMMARY:Kompositionsforum mit Michelle Lou
DESCRIPTION:Michelle Lou\, UC San Diego \nDieses Forum findet online statt ! \n  \nAnmeldung per Mail unter: hakan.ulus@gmpu.ac.at
URL:https://notes.gmpu.ac.at/event/kompositionsforum-mit-michelle-lou/
CATEGORIES:Kompositionsforum
ORGANIZER;CN="Gustav Mahler Privatuniversit%C3%A4t f%C3%BCr Musik":MAILTO:info@gmpu.ac.at
END:VEVENT
BEGIN:VEVENT
DTSTART;TZID=Europe/Vienna:20250520T160000
DTEND;TZID=Europe/Vienna:20250520T173000
DTSTAMP:20260422T160458
CREATED:20250402T091036Z
LAST-MODIFIED:20250402T091036Z
UID:9414-1747756800-1747762200@notes.gmpu.ac.at
SUMMARY:Podium Saxophon
DESCRIPTION:Klasse SCHOISWOHL Stephanie \, BA BA MA MA \n 
URL:https://notes.gmpu.ac.at/event/podium-saxophon-11/
LOCATION:Konzerthaus Klagenfurt\, Kleiner Saal
CATEGORIES:Podium
ORGANIZER;CN="Gustav Mahler Privatuniversit%C3%A4t f%C3%BCr Musik":MAILTO:info@gmpu.ac.at
END:VEVENT
BEGIN:VEVENT
DTSTART;TZID=Europe/Vienna:20250520T183000
DTEND;TZID=Europe/Vienna:20250520T210000
DTSTAMP:20260422T160458
CREATED:20250428T080606Z
LAST-MODIFIED:20250428T080606Z
UID:9562-1747765800-1747774800@notes.gmpu.ac.at
SUMMARY:Podium Harfe
DESCRIPTION:Klasse: BIELEFELD Christoph \, MA\, M.Mus
URL:https://notes.gmpu.ac.at/event/podium-harfe-6/
LOCATION:Konzerthaus Klagenfurt\, Kleiner Saal
CATEGORIES:Podium
ORGANIZER;CN="Gustav Mahler Privatuniversit%C3%A4t f%C3%BCr Musik":MAILTO:info@gmpu.ac.at
END:VEVENT
BEGIN:VEVENT
DTSTART;TZID=Europe/Vienna:20250520T190000
DTEND;TZID=Europe/Vienna:20250520T210000
DTSTAMP:20260422T160458
CREATED:20250122T100724Z
LAST-MODIFIED:20250507T073710Z
UID:8894-1747767600-1747774800@notes.gmpu.ac.at
SUMMARY:Podium Steirische Harmonika - Abgesagt !
DESCRIPTION:Klasse FELLINGER Helmut \, Prof.
URL:https://notes.gmpu.ac.at/event/podium-steirische-harmonika-11/
LOCATION:GMPU Blauer Saal
CATEGORIES:Podium
ORGANIZER;CN="Gustav Mahler Privatuniversit%C3%A4t f%C3%BCr Musik":MAILTO:info@gmpu.ac.at
END:VEVENT
BEGIN:VEVENT
DTSTART;TZID=Europe/Vienna:20250520T200000
DTEND;TZID=Europe/Vienna:20250520T213000
DTSTAMP:20260422T160458
CREATED:20250423T113431Z
LAST-MODIFIED:20250429T160950Z
UID:9553-1747771200-1747776600@notes.gmpu.ac.at
SUMMARY:Podium Viola - Abgesagt!
DESCRIPTION:Klasse Mag. Dr. SOANEA Aida-Carmen
URL:https://notes.gmpu.ac.at/event/podium-viola-9/
LOCATION:GMPU Neuer Saal
CATEGORIES:Podium
ORGANIZER;CN="Gustav Mahler Privatuniversit%C3%A4t f%C3%BCr Musik":MAILTO:info@gmpu.ac.at
END:VEVENT
END:VCALENDAR