BEGIN:VCALENDAR
VERSION:2.0
PRODID:-//Notes - ECPv6.15.20//NONSGML v1.0//EN
CALSCALE:GREGORIAN
METHOD:PUBLISH
X-WR-CALNAME:Notes
X-ORIGINAL-URL:https://notes.gmpu.ac.at
X-WR-CALDESC:Veranstaltungen für Notes
REFRESH-INTERVAL;VALUE=DURATION:PT1H
X-Robots-Tag:noindex
X-PUBLISHED-TTL:PT1H
BEGIN:VTIMEZONE
TZID:Europe/Vienna
BEGIN:DAYLIGHT
TZOFFSETFROM:+0100
TZOFFSETTO:+0200
TZNAME:CEST
DTSTART:20240331T010000
END:DAYLIGHT
BEGIN:STANDARD
TZOFFSETFROM:+0200
TZOFFSETTO:+0100
TZNAME:CET
DTSTART:20241027T010000
END:STANDARD
BEGIN:DAYLIGHT
TZOFFSETFROM:+0100
TZOFFSETTO:+0200
TZNAME:CEST
DTSTART:20250330T010000
END:DAYLIGHT
BEGIN:STANDARD
TZOFFSETFROM:+0200
TZOFFSETTO:+0100
TZNAME:CET
DTSTART:20251026T010000
END:STANDARD
BEGIN:DAYLIGHT
TZOFFSETFROM:+0100
TZOFFSETTO:+0200
TZNAME:CEST
DTSTART:20260329T010000
END:DAYLIGHT
BEGIN:STANDARD
TZOFFSETFROM:+0200
TZOFFSETTO:+0100
TZNAME:CET
DTSTART:20261025T010000
END:STANDARD
END:VTIMEZONE
BEGIN:VEVENT
DTSTART;TZID=Europe/Vienna:20250519T153000
DTEND;TZID=Europe/Vienna:20250519T173000
DTSTAMP:20260422T121845
CREATED:20250402T090412Z
LAST-MODIFIED:20250402T090412Z
UID:9410-1747668600-1747675800@notes.gmpu.ac.at
SUMMARY:Podium Querflöte
DESCRIPTION:Klasse Mag. BRUMMER Birgit \, Prof. \n 
URL:https://notes.gmpu.ac.at/event/podium-querfloete-22/
LOCATION:GMPU Neuer Saal
CATEGORIES:Podium
ORGANIZER;CN="Gustav Mahler Privatuniversit%C3%A4t f%C3%BCr Musik":MAILTO:info@gmpu.ac.at
END:VEVENT
BEGIN:VEVENT
DTSTART;TZID=Europe/Vienna:20250519T200000
DTEND;TZID=Europe/Vienna:20250519T213000
DTSTAMP:20260422T121845
CREATED:20250122T100506Z
LAST-MODIFIED:20250122T100506Z
UID:8892-1747684800-1747690200@notes.gmpu.ac.at
SUMMARY:Podium Kammermusik
DESCRIPTION:Klasse GEHRING Andrea \, Prof.
URL:https://notes.gmpu.ac.at/event/podium-kammermusik-13/
LOCATION:GMPU Neuer Saal
CATEGORIES:Podium
ORGANIZER;CN="Gustav Mahler Privatuniversit%C3%A4t f%C3%BCr Musik":MAILTO:info@gmpu.ac.at
END:VEVENT
BEGIN:VEVENT
DTSTART;TZID=Europe/Vienna:20250519T203000
DTEND;TZID=Europe/Vienna:20250519T223000
DTSTAMP:20260422T121845
CREATED:20250402T072942Z
LAST-MODIFIED:20250402T072942Z
UID:9381-1747686600-1747693800@notes.gmpu.ac.at
SUMMARY:Late Night Jam Session@Villa for Forest
DESCRIPTION:organized by Gregor Skaza
URL:https://notes.gmpu.ac.at/event/late-night-jam-sessionvilla-for-forest-4/
LOCATION:Villa for Forest\, Viktringer Ring 21\, 9020 Klagenfurt\, Österreich
CATEGORIES:Session
ORGANIZER;CN="Gustav Mahler Privatuniversit%C3%A4t f%C3%BCr Musik":MAILTO:info@gmpu.ac.at
END:VEVENT
END:VCALENDAR