BEGIN:VCALENDAR
VERSION:2.0
PRODID:-//Notes - ECPv6.15.20//NONSGML v1.0//EN
CALSCALE:GREGORIAN
METHOD:PUBLISH
X-WR-CALNAME:Notes
X-ORIGINAL-URL:https://notes.gmpu.ac.at
X-WR-CALDESC:Veranstaltungen für Notes
REFRESH-INTERVAL;VALUE=DURATION:PT1H
X-Robots-Tag:noindex
X-PUBLISHED-TTL:PT1H
BEGIN:VTIMEZONE
TZID:Europe/Vienna
BEGIN:DAYLIGHT
TZOFFSETFROM:+0100
TZOFFSETTO:+0200
TZNAME:CEST
DTSTART:20240331T010000
END:DAYLIGHT
BEGIN:STANDARD
TZOFFSETFROM:+0200
TZOFFSETTO:+0100
TZNAME:CET
DTSTART:20241027T010000
END:STANDARD
BEGIN:DAYLIGHT
TZOFFSETFROM:+0100
TZOFFSETTO:+0200
TZNAME:CEST
DTSTART:20250330T010000
END:DAYLIGHT
BEGIN:STANDARD
TZOFFSETFROM:+0200
TZOFFSETTO:+0100
TZNAME:CET
DTSTART:20251026T010000
END:STANDARD
BEGIN:DAYLIGHT
TZOFFSETFROM:+0100
TZOFFSETTO:+0200
TZNAME:CEST
DTSTART:20260329T010000
END:DAYLIGHT
BEGIN:STANDARD
TZOFFSETFROM:+0200
TZOFFSETTO:+0100
TZNAME:CET
DTSTART:20261025T010000
END:STANDARD
END:VTIMEZONE
BEGIN:VEVENT
DTSTART;VALUE=DATE:20250514
DTEND;VALUE=DATE:20250516
DTSTAMP:20260422T122349
CREATED:20250122T083243Z
LAST-MODIFIED:20250303T135829Z
UID:8877-1747180800-1747353599@notes.gmpu.ac.at
SUMMARY:Masterclass Fagott
DESCRIPTION:Der renommierte Fagottist Univ.Prof. Mag. David Seidel konnte wieder dazu gewonnen werden\, eine Masterclass an der GMPU abzuhalten. Diese wird gemeinsam mit Univ.-Prof. SCHUSTER Bianca  am 14. Mai 2025 im Neuen Saal und am 15. Mai 2025 im Blauen Saal der Gustav Mahler Privatuniversität stattfinden. Hier gibt es die Gelegenheit\, Sololiteratur und/oder Orchesterstellen oder Etüden zu erarbeiten\, Fagottist*innen kennenzulernen und anderen beim Musizieren in den schönen Vortragssälen der Universität zuzuhören. Auch Tipps fürs Üben und für den Rohrbau werden nicht fehlen. Als musikalischen Abschluss können die Teilnehmer*innen die erarbeiteten Stücke in einem Konzert im Blauen Saal vortragen.  Klavierbegleitung wird zur Verfügung gestellt. \n\nAktive Teilnahme: kostenlos\, auch nur an einem der beiden Tage möglich\nPassive Teilnahme: ohne Anmeldung möglich\nSpielerisches Niveau: kein Limit\nAnmeldung bitte bis 25.04.2025 per mail an bianca.schuster@gmpu.ac.at unter Angabe der Werke\, die erarbeitet werden sollen\n\n 
URL:https://notes.gmpu.ac.at/event/masterclass-fagott/
LOCATION:Gustav Mahler Privatuniversität für Musik
CATEGORIES:Masterclass
ATTACH;FMTTYPE=image/png:https://notes.gmpu.ac.at/wp-content/uploads/2025/01/fagott.png
ORGANIZER;CN="Gustav Mahler Privatuniversit%C3%A4t f%C3%BCr Musik":MAILTO:info@gmpu.ac.at
END:VEVENT
BEGIN:VEVENT
DTSTART;TZID=Europe/Vienna:20250515T173000
DTEND;TZID=Europe/Vienna:20250515T193000
DTSTAMP:20260422T122349
CREATED:20250313T085811Z
LAST-MODIFIED:20250313T085811Z
UID:9266-1747330200-1747337400@notes.gmpu.ac.at
SUMMARY:Stammtisch Neue Musik - Stammtisch 23
DESCRIPTION:In gelassener Atmosphäre wird über aktuelle Themen im Bereich der Neuen Musik diskutiert. \nAlle\, die Interesse an Neuer Musik haben\, sind herzlich willkommen! \nAb diesem Semester halten wir den Stammtisch in einem Lokal ab. \nTreffpunkt ist jeweils um 17:30 Uhr im Foyer der GMPU! \n  \nStammtisch 23 – 15.5.2025 \nMusikalische Bildung in Pflichtschulen und Musikschule.  Allgemeinbildung versus Spezialisierung. \nWie geht das Musikland Österreich mit seinen Talenten um? \nImpulsvortrag von Univ.-Prof. Thomas Modrej mit anschließender Diskussion. \n 
URL:https://notes.gmpu.ac.at/event/stammtisch-neue-musik-stammtisch-23/
LOCATION:GMPU\, Mießtaler Straße 8\, Klagenfurt\, Kärnten\, 9020\, Österreich
CATEGORIES:Stammtisch
ATTACH;FMTTYPE=image/jpeg:https://notes.gmpu.ac.at/wp-content/uploads/2025/03/20250313_Stammtisch-Neue-Musik.jpg
ORGANIZER;CN="Gustav Mahler Privatuniversit%C3%A4t f%C3%BCr Musik":MAILTO:info@gmpu.ac.at
END:VEVENT
BEGIN:VEVENT
DTSTART;TZID=Europe/Vienna:20250515T180000
DTEND;TZID=Europe/Vienna:20250515T200000
DTSTAMP:20260422T122349
CREATED:20240919T131430Z
LAST-MODIFIED:20250506T100408Z
UID:8084-1747332000-1747339200@notes.gmpu.ac.at
SUMMARY:ECM Konzert "Prima la musica"
DESCRIPTION:Erleben Sie eine beeindruckende Vielfalt an Klängen und Genres\, dargeboten von herausragenden jungen Musiker*innen des Exzellenzclusters (ECM) der GMPU und den Musikschulen des Landes Kärnten\, die mit Leidenschaft und Können das Publikum in ihren Bann ziehen werden. \nFotografin: Evelyn Hronek – KamerawerK \nEintritt frei | Keine Anmeldung erforderlich
URL:https://notes.gmpu.ac.at/event/ecm-konzert-prima-la-musica/
LOCATION:GMPU Neuer Saal
CATEGORIES:Konzert
ATTACH;FMTTYPE=image/jpeg:https://notes.gmpu.ac.at/wp-content/uploads/2024/09/Hronek_meisterkurs0875-scaled.jpg
ORGANIZER;CN="Gustav Mahler Privatuniversit%C3%A4t f%C3%BCr Musik":MAILTO:info@gmpu.ac.at
END:VEVENT
END:VCALENDAR