BEGIN:VCALENDAR
VERSION:2.0
PRODID:-//Notes - ECPv6.15.20//NONSGML v1.0//EN
CALSCALE:GREGORIAN
METHOD:PUBLISH
X-ORIGINAL-URL:https://notes.gmpu.ac.at
X-WR-CALDESC:Veranstaltungen für Notes
REFRESH-INTERVAL;VALUE=DURATION:PT1H
X-Robots-Tag:noindex
X-PUBLISHED-TTL:PT1H
BEGIN:VTIMEZONE
TZID:Europe/Vienna
BEGIN:DAYLIGHT
TZOFFSETFROM:+0100
TZOFFSETTO:+0200
TZNAME:CEST
DTSTART:20240331T010000
END:DAYLIGHT
BEGIN:STANDARD
TZOFFSETFROM:+0200
TZOFFSETTO:+0100
TZNAME:CET
DTSTART:20241027T010000
END:STANDARD
BEGIN:DAYLIGHT
TZOFFSETFROM:+0100
TZOFFSETTO:+0200
TZNAME:CEST
DTSTART:20250330T010000
END:DAYLIGHT
BEGIN:STANDARD
TZOFFSETFROM:+0200
TZOFFSETTO:+0100
TZNAME:CET
DTSTART:20251026T010000
END:STANDARD
BEGIN:DAYLIGHT
TZOFFSETFROM:+0100
TZOFFSETTO:+0200
TZNAME:CEST
DTSTART:20260329T010000
END:DAYLIGHT
BEGIN:STANDARD
TZOFFSETFROM:+0200
TZOFFSETTO:+0100
TZNAME:CET
DTSTART:20261025T010000
END:STANDARD
END:VTIMEZONE
BEGIN:VEVENT
DTSTART;TZID=Europe/Vienna:20250508T173000
DTEND;TZID=Europe/Vienna:20250508T190000
DTSTAMP:20260422T121931
CREATED:20250422T074941Z
LAST-MODIFIED:20250424T083440Z
UID:9535-1746725400-1746730800@notes.gmpu.ac.at
SUMMARY:Music on Airport - After-Work-Session
DESCRIPTION:mit dem GMPU Brazilian Ensemble
URL:https://notes.gmpu.ac.at/event/music-on-airport-after-work-session/
LOCATION:Flughafen Klagenfurt\, Flughafenstraße 60-64\, Klagenfurt\, Kärnten\, 9020\, Österreich
CATEGORIES:Session
ORGANIZER;CN="Gustav Mahler Privatuniversit%C3%A4t f%C3%BCr Musik":MAILTO:info@gmpu.ac.at
END:VEVENT
BEGIN:VEVENT
DTSTART;TZID=Europe/Vienna:20250508T180000
DTEND;TZID=Europe/Vienna:20250508T200000
DTSTAMP:20260422T121931
CREATED:20250304T090757Z
LAST-MODIFIED:20250304T091206Z
UID:9164-1746727200-1746734400@notes.gmpu.ac.at
SUMMARY:Aufführungspraxis Neue Musik
DESCRIPTION:Klasse SCHOISWOHL Stephanie \, BA BA MA MA
URL:https://notes.gmpu.ac.at/event/auffuehrungspraxis-neue-musik/
LOCATION:GMPU Blauer Saal
CATEGORIES:Konzert
ORGANIZER;CN="Gustav Mahler Privatuniversit%C3%A4t f%C3%BCr Musik":MAILTO:info@gmpu.ac.at
END:VEVENT
END:VCALENDAR