BEGIN:VCALENDAR
VERSION:2.0
PRODID:-//Notes - ECPv6.15.20//NONSGML v1.0//EN
CALSCALE:GREGORIAN
METHOD:PUBLISH
X-ORIGINAL-URL:https://notes.gmpu.ac.at
X-WR-CALDESC:Veranstaltungen für Notes
REFRESH-INTERVAL;VALUE=DURATION:PT1H
X-Robots-Tag:noindex
X-PUBLISHED-TTL:PT1H
BEGIN:VTIMEZONE
TZID:Europe/Vienna
BEGIN:DAYLIGHT
TZOFFSETFROM:+0100
TZOFFSETTO:+0200
TZNAME:CEST
DTSTART:20240331T010000
END:DAYLIGHT
BEGIN:STANDARD
TZOFFSETFROM:+0200
TZOFFSETTO:+0100
TZNAME:CET
DTSTART:20241027T010000
END:STANDARD
BEGIN:DAYLIGHT
TZOFFSETFROM:+0100
TZOFFSETTO:+0200
TZNAME:CEST
DTSTART:20250330T010000
END:DAYLIGHT
BEGIN:STANDARD
TZOFFSETFROM:+0200
TZOFFSETTO:+0100
TZNAME:CET
DTSTART:20251026T010000
END:STANDARD
BEGIN:DAYLIGHT
TZOFFSETFROM:+0100
TZOFFSETTO:+0200
TZNAME:CEST
DTSTART:20260329T010000
END:DAYLIGHT
BEGIN:STANDARD
TZOFFSETFROM:+0200
TZOFFSETTO:+0100
TZNAME:CET
DTSTART:20261025T010000
END:STANDARD
END:VTIMEZONE
BEGIN:VEVENT
DTSTART;TZID=Europe/Vienna:20250506T163000
DTEND;TZID=Europe/Vienna:20250506T180000
DTSTAMP:20260422T135739
CREATED:20250224T145812Z
LAST-MODIFIED:20250224T150443Z
UID:9098-1746549000-1746554400@notes.gmpu.ac.at
SUMMARY:Forschungsforum Sommersemester 2025
DESCRIPTION:Contradict – Ideas for a New World\nThomas Burkhalter\nNorient\, Bern\nWhen two friends collect money for the so-called “suffering in America” in the streets of Accra\, is it for fun\, political provocation\, or a prophecy? Two Swiss filmmakers will answer these questions with the help of seven musicians from Ghana – M3NSA\, Wanlov The Kubolor\, Adomaa\, Worlasi\, Akan\, Mutombo Da Poet\, and Poetra Asantewa – who have written new songs and produced video clips especially for the documentary film Contradict. \nTomorrow’s ideas and trends are emerging more decentralized than ever in a globalized world. What do global developments and shifts in values look like from the ground up in Ghana and the African continent? How do we want to confront and contradict those changes? Can new visions for the future become global realities? \nA film by Peter Guyer and Thomas Burkhalter \nBio: Thomas Burkhalter\, PhD\, is an anthropologist\, multidisciplinary artist\, and writer from Bern\, Switzerland. He is the founder and director of Norient and the Norient Festival. He has co-directed documentary films\, including Contradict (Berner Filmpreis 2020 + Al-Jazeera Witness)\, and AV/theatre performances. Burkhalter is also the author and co-editor of several books\, such as Local Music Scenes and Globalization: Transnational Platforms in Beirut (Routledge)\, The Arab Avant Garde: Musical Innovation in the Middle East (Wesleyan University Press)\, and Seismographic Sounds – Visions of a New World (Norient Books). His experimental radio feature\, Gqom Edits – A Durban Visit\, was nominated for the Prix Europa in 2017. Burkhalter teaches regularly at universities\, leads workshops for arts institutions\, and\, since 2022\, has produced the Norient Mixtape for Swiss National Radio SRF3. \nhttps://norient.com/tbu
URL:https://notes.gmpu.ac.at/event/forschungsforum-sommersemester-2025-3/
LOCATION:quARtier\, 8.Mai-Str. 47\, Klagenfurt am Wörthersee\, Kärnten\, 9020\, Österreich
CATEGORIES:Forschung,Forschungsforum,Universitätsveranstaltung
ATTACH;FMTTYPE=image/png:https://notes.gmpu.ac.at/wp-content/uploads/2025/02/Termine-Forschungsforum.png
ORGANIZER;CN="Gustav Mahler Privatuniversit%C3%A4t f%C3%BCr Musik":MAILTO:info@gmpu.ac.at
END:VEVENT
BEGIN:VEVENT
DTSTART;TZID=Europe/Vienna:20250506T170000
DTEND;TZID=Europe/Vienna:20250506T190000
DTSTAMP:20260422T135739
CREATED:20250407T074239Z
LAST-MODIFIED:20250407T074239Z
UID:9462-1746550800-1746558000@notes.gmpu.ac.at
SUMMARY:Contradict - Ideas for a new world
DESCRIPTION:Film by Peter Guyer & Thomas Burkhalter \nFilmscreening – eine Veranstaltung des Forschungsforums mit anschließender Diskussion mit dem Regisseur Thomas Burkhalter \n(2020; 89´mit engl. UT) \nDie zwei Schweizer Filmemacher Peter Guyer und Thomas Burkhalter gehen gemeinsam mit sechs Musikerinnen und Musikern aus Ghana (M3nsa\, Wanlov The Kubolor\, Adomaa\, Worlasi\, Akan\, Mutombo Da Poet and Poetra Asantewa) auf Spurensuche nach den Auswirkungen der amerikanischen Übermacht am afrikanischen Kontinent und dessen eigenem Potential\, wenn es um die Entwicklung neuer Zukunftsmodelle in der Weltordnung des 21. Jahrhunderts geht. Von allen Beteiligten wurden für den Film eigene Songs und Videoclips produziert\, die sich kritisch\, humorvoll und teils provokativ mit diesen Fragen beschäftigen. Daraus entsteht das vielschichtige Stimmungsbild einer afrikanischen Vision für die Welt\, das aus Hinterhöfen und privaten Räumen heraus eine grenzüberschreitende Strahlkraft entwickelt. Informationen zum Film: https://vimeo.com/348169189 (Trailer) und https://www.contradict-film.com/
URL:https://notes.gmpu.ac.at/event/contradict-ideas-for-a-new-world/
LOCATION:quARtier\, 8.Mai-Str. 47\, Klagenfurt am Wörthersee\, Kärnten\, 9020\, Österreich
CATEGORIES:Informationsveranstaltung,Performance,Präsentationen,Universitätsveranstaltung
ATTACH;FMTTYPE=image/png:https://notes.gmpu.ac.at/wp-content/uploads/2025/04/Contradict.png
ORGANIZER;CN="Gustav Mahler Privatuniversit%C3%A4t f%C3%BCr Musik":MAILTO:info@gmpu.ac.at
END:VEVENT
BEGIN:VEVENT
DTSTART;TZID=Europe/Vienna:20250506T190000
DTEND;TZID=Europe/Vienna:20250506T210000
DTSTAMP:20260422T135739
CREATED:20250402T085257Z
LAST-MODIFIED:20250402T085257Z
UID:9403-1746558000-1746565200@notes.gmpu.ac.at
SUMMARY:Podium Schlagwerk
DESCRIPTION:Klassen HOMAR Fabian \, BA MA und GEORGIEV Aleksandar \, BA BA MA MA
URL:https://notes.gmpu.ac.at/event/podium-schlagwerk-8/
LOCATION:GMPU Neuer Saal
CATEGORIES:Podium
ORGANIZER;CN="Gustav Mahler Privatuniversit%C3%A4t f%C3%BCr Musik":MAILTO:info@gmpu.ac.at
END:VEVENT
BEGIN:VEVENT
DTSTART;TZID=Europe/Vienna:20250506T193000
DTEND;TZID=Europe/Vienna:20250506T213000
DTSTAMP:20260422T135739
CREATED:20250402T120938Z
LAST-MODIFIED:20250402T120938Z
UID:9434-1746559800-1746567000@notes.gmpu.ac.at
SUMMARY:BRANDneu - Max Brand Ensemble
DESCRIPTION:unter der Leitung von Richard Graf werden Werke von \nBastian BRÄNNLAND\, Karlheinz ESSL\, Martin GENAHL\, Gerhard HAFNER\, Dimitrios KATHAROPOULOS\, \n David KOSVINER\, Roberta LAZO VALENZUELA\, Carolin Anna PICHLER und Wilfried SATKE \ngespielt. \nEintritt frei! \n 
URL:https://notes.gmpu.ac.at/event/brandneu-max-brand-ensemble/
LOCATION:GMPU Blauer Saal
CATEGORIES:Konzert
ATTACH;FMTTYPE=image/jpeg:https://notes.gmpu.ac.at/wp-content/uploads/2025/04/20250402_Brandneu.jpg
ORGANIZER;CN="Gustav Mahler Privatuniversit%C3%A4t f%C3%BCr Musik":MAILTO:info@gmpu.ac.at
END:VEVENT
BEGIN:VEVENT
DTSTART;TZID=Europe/Vienna:20250506T200000
DTEND;TZID=Europe/Vienna:20250506T220000
DTSTAMP:20260422T135739
CREATED:20250325T095706Z
LAST-MODIFIED:20250325T095706Z
UID:9356-1746561600-1746568800@notes.gmpu.ac.at
SUMMARY:Brazilian Jam Night @ Fürstlich im Museum
DESCRIPTION:Fürstliche Live-Musik mit Studierenden und Lehrenden der Gustav Mahler Privatuniversität. \nOpener: Lucas Chagas & Emiliano Sampaio \ndanach Jam Session/Brasilianische Drinks \nEintritt: freiwillige Spenden \n  \n 
URL:https://notes.gmpu.ac.at/event/brazilian-jam-night-fuerstlich-im-museum/
LOCATION:Fürstlich im Museum\, Museumsgasse 2\, Klagenfurt\, Kärnten\, 9020\, Österreich
CATEGORIES:Session
ATTACH;FMTTYPE=image/jpeg:https://notes.gmpu.ac.at/wp-content/uploads/2025/03/Brazilian-hoch.jpg
ORGANIZER;CN="Gustav Mahler Privatuniversit%C3%A4t f%C3%BCr Musik":MAILTO:info@gmpu.ac.at
END:VEVENT
END:VCALENDAR