BEGIN:VCALENDAR
VERSION:2.0
PRODID:-//Notes - ECPv6.15.20//NONSGML v1.0//EN
CALSCALE:GREGORIAN
METHOD:PUBLISH
X-ORIGINAL-URL:https://notes.gmpu.ac.at
X-WR-CALDESC:Veranstaltungen für Notes
REFRESH-INTERVAL;VALUE=DURATION:PT1H
X-Robots-Tag:noindex
X-PUBLISHED-TTL:PT1H
BEGIN:VTIMEZONE
TZID:Europe/Vienna
BEGIN:DAYLIGHT
TZOFFSETFROM:+0100
TZOFFSETTO:+0200
TZNAME:CEST
DTSTART:20240331T010000
END:DAYLIGHT
BEGIN:STANDARD
TZOFFSETFROM:+0200
TZOFFSETTO:+0100
TZNAME:CET
DTSTART:20241027T010000
END:STANDARD
BEGIN:DAYLIGHT
TZOFFSETFROM:+0100
TZOFFSETTO:+0200
TZNAME:CEST
DTSTART:20250330T010000
END:DAYLIGHT
BEGIN:STANDARD
TZOFFSETFROM:+0200
TZOFFSETTO:+0100
TZNAME:CET
DTSTART:20251026T010000
END:STANDARD
BEGIN:DAYLIGHT
TZOFFSETFROM:+0100
TZOFFSETTO:+0200
TZNAME:CEST
DTSTART:20260329T010000
END:DAYLIGHT
BEGIN:STANDARD
TZOFFSETFROM:+0200
TZOFFSETTO:+0100
TZNAME:CET
DTSTART:20261025T010000
END:STANDARD
END:VTIMEZONE
BEGIN:VEVENT
DTSTART;TZID=Europe/Vienna:20250430T163000
DTEND;TZID=Europe/Vienna:20250430T190000
DTSTAMP:20260422T105320
CREATED:20241113T101915Z
LAST-MODIFIED:20250218T135722Z
UID:8450-1746030600-1746039600@notes.gmpu.ac.at
SUMMARY:"Talent goes Teacher" - Tage
DESCRIPTION:Bei den Talent goes Teacher Tagen bieten Lehrende der GMPU und der PH Kärnten ein individuelles Coaching für interessierte Schüler*innen an\, die die Zulassungsprüfung zum \nLehramtsstudium Musikerziehung/Instrumentalmusikerziehung anstreben. \nInteressierte melden sich per Mail an helmut.schaumberger@gmpu.ac.at \nInformationen zum Lehramtsstudium ME/IME im EVSO:  https://www.lehramt-so.at/ev-sued-ost/ \nAnmeldeplattform zum Lehramtsstudium im EVSO:  https://www.zulassunglehramt.at/ \n 
URL:https://notes.gmpu.ac.at/event/talent-goes-teacher-tage-2/
LOCATION:Pädagogische Hochschule Kärnten\, Hubertusstraße 1\, Klagenfurt am Wörthersee\, Kärnten\, 9020\, Österreich
CATEGORIES:Workshop
ATTACH;FMTTYPE=image/png:https://notes.gmpu.ac.at/wp-content/uploads/2024/11/Talent-goes-Teacher-Tage.png
ORGANIZER;CN="Gustav Mahler Privatuniversit%C3%A4t f%C3%BCr Musik":MAILTO:info@gmpu.ac.at
END:VEVENT
END:VCALENDAR