BEGIN:VCALENDAR
VERSION:2.0
PRODID:-//Notes - ECPv6.15.20//NONSGML v1.0//EN
CALSCALE:GREGORIAN
METHOD:PUBLISH
X-WR-CALNAME:Notes
X-ORIGINAL-URL:https://notes.gmpu.ac.at
X-WR-CALDESC:Veranstaltungen für Notes
REFRESH-INTERVAL;VALUE=DURATION:PT1H
X-Robots-Tag:noindex
X-PUBLISHED-TTL:PT1H
BEGIN:VTIMEZONE
TZID:Europe/Vienna
BEGIN:DAYLIGHT
TZOFFSETFROM:+0100
TZOFFSETTO:+0200
TZNAME:CEST
DTSTART:20240331T010000
END:DAYLIGHT
BEGIN:STANDARD
TZOFFSETFROM:+0200
TZOFFSETTO:+0100
TZNAME:CET
DTSTART:20241027T010000
END:STANDARD
BEGIN:DAYLIGHT
TZOFFSETFROM:+0100
TZOFFSETTO:+0200
TZNAME:CEST
DTSTART:20250330T010000
END:DAYLIGHT
BEGIN:STANDARD
TZOFFSETFROM:+0200
TZOFFSETTO:+0100
TZNAME:CET
DTSTART:20251026T010000
END:STANDARD
BEGIN:DAYLIGHT
TZOFFSETFROM:+0100
TZOFFSETTO:+0200
TZNAME:CEST
DTSTART:20260329T010000
END:DAYLIGHT
BEGIN:STANDARD
TZOFFSETFROM:+0200
TZOFFSETTO:+0100
TZNAME:CET
DTSTART:20261025T010000
END:STANDARD
END:VTIMEZONE
BEGIN:VEVENT
DTSTART;TZID=Europe/Vienna:20250428T200000
DTEND;TZID=Europe/Vienna:20250428T220000
DTSTAMP:20260422T104956
CREATED:20250122T095852Z
LAST-MODIFIED:20250408T085757Z
UID:8890-1745870400-1745877600@notes.gmpu.ac.at
SUMMARY:Podium Kammermusik - Abgesagt!
DESCRIPTION:Klasse GEHRING Andrea \, Prof.
URL:https://notes.gmpu.ac.at/event/podium-kammermusik-12/
LOCATION:GMPU Blauer Saal
CATEGORIES:Podium
ORGANIZER;CN="Gustav Mahler Privatuniversit%C3%A4t f%C3%BCr Musik":MAILTO:info@gmpu.ac.at
END:VEVENT
BEGIN:VEVENT
DTSTART;TZID=Europe/Vienna:20250428T200000
DTEND;TZID=Europe/Vienna:20250428T220000
DTSTAMP:20260422T104956
CREATED:20250318T161546Z
LAST-MODIFIED:20250318T161546Z
UID:9321-1745870400-1745877600@notes.gmpu.ac.at
SUMMARY:Monday Music Session
DESCRIPTION:organized by Jan Istenic
URL:https://notes.gmpu.ac.at/event/monday-music-session-9/
LOCATION:Hafenstadt\, Villacher Straße 16\, Klagenfurt\, Kärnten\, 9020
CATEGORIES:Session
ORGANIZER;CN="Gustav Mahler Privatuniversit%C3%A4t f%C3%BCr Musik":MAILTO:info@gmpu.ac.at
END:VEVENT
END:VCALENDAR