BEGIN:VCALENDAR
VERSION:2.0
PRODID:-//Notes - ECPv6.15.20//NONSGML v1.0//EN
CALSCALE:GREGORIAN
METHOD:PUBLISH
X-WR-CALNAME:Notes
X-ORIGINAL-URL:https://notes.gmpu.ac.at
X-WR-CALDESC:Veranstaltungen für Notes
REFRESH-INTERVAL;VALUE=DURATION:PT1H
X-Robots-Tag:noindex
X-PUBLISHED-TTL:PT1H
BEGIN:VTIMEZONE
TZID:Europe/Vienna
BEGIN:DAYLIGHT
TZOFFSETFROM:+0100
TZOFFSETTO:+0200
TZNAME:CEST
DTSTART:20240331T010000
END:DAYLIGHT
BEGIN:STANDARD
TZOFFSETFROM:+0200
TZOFFSETTO:+0100
TZNAME:CET
DTSTART:20241027T010000
END:STANDARD
BEGIN:DAYLIGHT
TZOFFSETFROM:+0100
TZOFFSETTO:+0200
TZNAME:CEST
DTSTART:20250330T010000
END:DAYLIGHT
BEGIN:STANDARD
TZOFFSETFROM:+0200
TZOFFSETTO:+0100
TZNAME:CET
DTSTART:20251026T010000
END:STANDARD
BEGIN:DAYLIGHT
TZOFFSETFROM:+0100
TZOFFSETTO:+0200
TZNAME:CEST
DTSTART:20260329T010000
END:DAYLIGHT
BEGIN:STANDARD
TZOFFSETFROM:+0200
TZOFFSETTO:+0100
TZNAME:CET
DTSTART:20261025T010000
END:STANDARD
END:VTIMEZONE
BEGIN:VEVENT
DTSTART;TZID=Europe/Vienna:20250409T153000
DTEND;TZID=Europe/Vienna:20250409T180000
DTSTAMP:20260422T105025
CREATED:20250127T075454Z
LAST-MODIFIED:20250127T075722Z
UID:8944-1744212600-1744221600@notes.gmpu.ac.at
SUMMARY:Podium Trompete
DESCRIPTION:Klasse HOFER Robert \, Prof.
URL:https://notes.gmpu.ac.at/event/podium-trompete-20/
LOCATION:GMPU Blauer Saal
CATEGORIES:Podium
ORGANIZER;CN="Gustav Mahler Privatuniversit%C3%A4t f%C3%BCr Musik":MAILTO:info@gmpu.ac.at
END:VEVENT
BEGIN:VEVENT
DTSTART;TZID=Europe/Vienna:20250409T160000
DTEND;TZID=Europe/Vienna:20250409T180000
DTSTAMP:20260422T105025
CREATED:20250310T085043Z
LAST-MODIFIED:20250311T125607Z
UID:9220-1744214400-1744221600@notes.gmpu.ac.at
SUMMARY:New Music with Accordion - Präsentationskonzert
DESCRIPTION:Beim Präsentationskonzert am 9. April 2025 spielen Teilnehmer:innen der Musikhochschule Freiburg und des Conservatorio Agostino Stefani Castelfranco! \nIm Mittelpunkt des Projekts steht die Entstehung\, Erarbeitung und Präsentation neuen Kompositionen für Akkordeon mit anderen Instrumenten. Die Teilnehmer:innen werden in gemeinsamen Proben\, geleitet von Pädagogen bzw. Studierenden\, die neuentstandene Kompositionen einstudieren. Von großer Bedeutung ist die unmittelbare Kommunikation mit den Komponisten\, wodurch ist gegeben eine Möglichkeit der Weiterentwicklung der Kompositionen selbst\, als auch der Klangvorstellung der Musiker:innen und der Spieltechniken bzw. Gesangstechniken. Die Ergebnisse der gemeinsamen Arbeit werden präsentiert im Rahmen eines Konzerts\, bzw. wird durch eine Tonaufnahme dokumentiert. Die Öffentlichkeitswirksamkeit wird durch eine Reportage des ORF unterstützt. \nTeilnehmende Institutionen: \nGMPU – Conservatorio Agosino Steffani – Castelfranco Italy – Musikhochschule für Musik Freiburg \nKontakt: roman.pechmann@gmpu.ac.at \n 
URL:https://notes.gmpu.ac.at/event/new-music-with-accordion-praesentationskonzert/
LOCATION:Konzerthaus Klagenfurt\, Kleiner Saal
CATEGORIES:Konzert
ATTACH;FMTTYPE=image/png:https://notes.gmpu.ac.at/wp-content/uploads/2025/03/Layout-New-Music.png
ORGANIZER;CN="Gustav Mahler Privatuniversit%C3%A4t f%C3%BCr Musik":MAILTO:info@gmpu.ac.at
END:VEVENT
END:VCALENDAR