BEGIN:VCALENDAR
VERSION:2.0
PRODID:-//Notes - ECPv6.15.20//NONSGML v1.0//EN
CALSCALE:GREGORIAN
METHOD:PUBLISH
X-ORIGINAL-URL:https://notes.gmpu.ac.at
X-WR-CALDESC:Veranstaltungen für Notes
REFRESH-INTERVAL;VALUE=DURATION:PT1H
X-Robots-Tag:noindex
X-PUBLISHED-TTL:PT1H
BEGIN:VTIMEZONE
TZID:Europe/Vienna
BEGIN:DAYLIGHT
TZOFFSETFROM:+0100
TZOFFSETTO:+0200
TZNAME:CEST
DTSTART:20240331T010000
END:DAYLIGHT
BEGIN:STANDARD
TZOFFSETFROM:+0200
TZOFFSETTO:+0100
TZNAME:CET
DTSTART:20241027T010000
END:STANDARD
BEGIN:DAYLIGHT
TZOFFSETFROM:+0100
TZOFFSETTO:+0200
TZNAME:CEST
DTSTART:20250330T010000
END:DAYLIGHT
BEGIN:STANDARD
TZOFFSETFROM:+0200
TZOFFSETTO:+0100
TZNAME:CET
DTSTART:20251026T010000
END:STANDARD
BEGIN:DAYLIGHT
TZOFFSETFROM:+0100
TZOFFSETTO:+0200
TZNAME:CEST
DTSTART:20260329T010000
END:DAYLIGHT
BEGIN:STANDARD
TZOFFSETFROM:+0200
TZOFFSETTO:+0100
TZNAME:CET
DTSTART:20261025T010000
END:STANDARD
END:VTIMEZONE
BEGIN:VEVENT
DTSTART;TZID=Europe/Vienna:20250403T110000
DTEND;TZID=Europe/Vienna:20250403T130000
DTSTAMP:20260422T105427
CREATED:20250304T073016Z
LAST-MODIFIED:20250304T073016Z
UID:9156-1743678000-1743685200@notes.gmpu.ac.at
SUMMARY:Podium Violine
DESCRIPTION:Klasse SUH Sae Won \, Prof.
URL:https://notes.gmpu.ac.at/event/podium-violine-35/
LOCATION:GMPU Neuer Saal
CATEGORIES:Podium
ORGANIZER;CN="Gustav Mahler Privatuniversit%C3%A4t f%C3%BCr Musik":MAILTO:info@gmpu.ac.at
END:VEVENT
BEGIN:VEVENT
DTSTART;TZID=Europe/Vienna:20250403T144500
DTEND;TZID=Europe/Vienna:20250403T161500
DTSTAMP:20260422T105427
CREATED:20250306T093724Z
LAST-MODIFIED:20250326T125310Z
UID:9199-1743691500-1743696900@notes.gmpu.ac.at
SUMMARY:Kompositionsforum mit Liza Lim
DESCRIPTION:Liza Lim\, University of Sydney \n  \nAnmeldung per Mail unter: hakan.ulus@gmpu.ac.at
URL:https://notes.gmpu.ac.at/event/kompositionsforum-mit-liza-lim/
LOCATION:Konzerthaus Kleiner Saal
CATEGORIES:Kompositionsforum
ORGANIZER;CN="Gustav Mahler Privatuniversit%C3%A4t f%C3%BCr Musik":MAILTO:info@gmpu.ac.at
END:VEVENT
BEGIN:VEVENT
DTSTART;TZID=Europe/Vienna:20250403T180000
DTEND;TZID=Europe/Vienna:20250403T200000
DTSTAMP:20260422T105427
CREATED:20240919T131015Z
LAST-MODIFIED:20241105T093041Z
UID:8082-1743703200-1743710400@notes.gmpu.ac.at
SUMMARY:ECM Konzert der GMPU
DESCRIPTION:Erleben Sie eine beeindruckende Vielfalt an Klängen und Genres\, dargeboten von herausragenden jungen Musiker*innen des Exzellenzclusters (ECM) der GMPU\, die mit Leidenschaft und Können das Publikum in ihren Bann ziehen werden. \nFotografin: Evelyn Hronek – KamerawerK \nEintritt frei | Keine Anmeldung erforderlich
URL:https://notes.gmpu.ac.at/event/ecm-konzert-der-gmpu-3/
LOCATION:GMPU Neuer Saal
CATEGORIES:Konzert
ATTACH;FMTTYPE=image/jpeg:https://notes.gmpu.ac.at/wp-content/uploads/2024/09/Hronek_meisterkurs0875-scaled.jpg
ORGANIZER;CN="Gustav Mahler Privatuniversit%C3%A4t f%C3%BCr Musik":MAILTO:info@gmpu.ac.at
END:VEVENT
END:VCALENDAR